Workbook

Sheet Profissionais
A1: Planilha de comissão do salão
A2: Horario.vc · 1) Cadastre os profissionais e a porcentagem. 2) Lance os atendimentos. 3) Veja o fechamento.
A4: Profissional | B4: Comissão padrão | C4: Base de cálculo | E4: Valor cheio: comissão sobre o preço cobrado.
A5: Ana | B5: 0.45 | C5: Valor cheio | E5: Valor líquido: preço menos produto e taxa do cartão.
A6: Bia | B6: 0.4 | C6: Valor líquido
A7: Carla | B7: 0.5 | C7: Valor cheio

Sheet Atendimentos
A1: Atendimentos
A2: Lance um atendimento por linha. As colunas em cinza são calculadas.
A4: Data | B4: Profissional | C4: Serviço | D4: Valor cobrado | E4: Produto usado (R$) | F4: Taxa do cartão (%) | G4: Comissão (%) | H4: Base | I4: Comissão (R$)
A5: 46266 | B5: Ana | C5: Corte feminino | D5: 80 | E5: 5 | F5: 0.03 | G5: =IF(B5="","",IFERROR(VLOOKUP(B5,Profissionais!$A$5:$C$24,2,FALSE),0)) | H5: =IF(B5="","",IFERROR(VLOOKUP(B5,Profissionais!$A$5:$C$24,3,FALSE),"Valor cheio")) | I5: =IF(B5="","",IF(H5="Valor líquido",MAX(0,D5-E5-D5*F5),D5)*G5)
A6: 46266 | B6: Bia | C6: Coloração | D6: 200 | E6: 45 | F6: 0.03 | G6: =IF(B6="","",IFERROR(VLOOKUP(B6,Profissionais!$A$5:$C$24,2,FALSE),0)) | H6: =IF(B6="","",IFERROR(VLOOKUP(B6,Profissionais!$A$5:$C$24,3,FALSE),"Valor cheio")) | I6: =IF(B6="","",IF(H6="Valor líquido",MAX(0,D6-E6-D6*F6),D6)*G6)
A7: 46267 | B7: Carla | C7: Escova | D7: 60 | E7: 3 | F7: 0 | G7: =IF(B7="","",IFERROR(VLOOKUP(B7,Profissionais!$A$5:$C$24,2,FALSE),0)) | H7: =IF(B7="","",IFERROR(VLOOKUP(B7,Profissionais!$A$5:$C$24,3,FALSE),"Valor cheio")) | I7: =IF(B7="","",IF(H7="Valor líquido",MAX(0,D7-E7-D7*F7),D7)*G7)
G8: =IF(B8="","",IFERROR(VLOOKUP(B8,Profissionais!$A$5:$C$24,2,FALSE),0)) | H8: =IF(B8="","",IFERROR(VLOOKUP(B8,Profissionais!$A$5:$C$24,3,FALSE),"Valor cheio")) | I8: =IF(B8="","",IF(H8="Valor líquido",MAX(0,D8-E8-D8*F8),D8)*G8)
G9: =IF(B9="","",IFERROR(VLOOKUP(B9,Profissionais!$A$5:$C$24,2,FALSE),0)) | H9: =IF(B9="","",IFERROR(VLOOKUP(B9,Profissionais!$A$5:$C$24,3,FALSE),"Valor cheio")) | I9: =IF(B9="","",IF(H9="Valor líquido",MAX(0,D9-E9-D9*F9),D9)*G9)
G10: =IF(B10="","",IFERROR(VLOOKUP(B10,Profissionais!$A$5:$C$24,2,FALSE),0)) | H10: =IF(B10="","",IFERROR(VLOOKUP(B10,Profissionais!$A$5:$C$24,3,FALSE),"Valor cheio")) | I10: =IF(B10="","",IF(H10="Valor líquido",MAX(0,D10-E10-D10*F10),D10)*G10)
G11: =IF(B11="","",IFERROR(VLOOKUP(B11,Profissionais!$A$5:$C$24,2,FALSE),0)) | H11: =IF(B11="","",IFERROR(VLOOKUP(B11,Profissionais!$A$5:$C$24,3,FALSE),"Valor cheio")) | I11: =IF(B11="","",IF(H11="Valor líquido",MAX(0,D11-E11-D11*F11),D11)*G11)
G12: =IF(B12="","",IFERROR(VLOOKUP(B12,Profissionais!$A$5:$C$24,2,FALSE),0)) | H12: =IF(B12="","",IFERROR(VLOOKUP(B12,Profissionais!$A$5:$C$24,3,FALSE),"Valor cheio")) | I12: =IF(B12="","",IF(H12="Valor líquido",MAX(0,D12-E12-D12*F12),D12)*G12)
G13: =IF(B13="","",IFERROR(VLOOKUP(B13,Profissionais!$A$5:$C$24,2,FALSE),0)) | H13: =IF(B13="","",IFERROR(VLOOKUP(B13,Profissionais!$A$5:$C$24,3,FALSE),"Valor cheio")) | I13: =IF(B13="","",IF(H13="Valor líquido",MAX(0,D13-E13-D13*F13),D13)*G13)
G14: =IF(B14="","",IFERROR(VLOOKUP(B14,Profissionais!$A$5:$C$24,2,FALSE),0)) | H14: =IF(B14="","",IFERROR(VLOOKUP(B14,Profissionais!$A$5:$C$24,3,FALSE),"Valor cheio")) | I14: =IF(B14="","",IF(H14="Valor líquido",MAX(0,D14-E14-D14*F14),D14)*G14)
G15: =IF(B15="","",IFERROR(VLOOKUP(B15,Profissionais!$A$5:$C$24,2,FALSE),0)) | H15: =IF(B15="","",IFERROR(VLOOKUP(B15,Profissionais!$A$5:$C$24,3,FALSE),"Valor cheio")) | I15: =IF(B15="","",IF(H15="Valor líquido",MAX(0,D15-E15-D15*F15),D15)*G15)
G16: =IF(B16="","",IFERROR(VLOOKUP(B16,Profissionais!$A$5:$C$24,2,FALSE),0)) | H16: =IF(B16="","",IFERROR(VLOOKUP(B16,Profissionais!$A$5:$C$24,3,FALSE),"Valor cheio")) | I16: =IF(B16="","",IF(H16="Valor líquido",MAX(0,D16-E16-D16*F16),D16)*G16)
G17: =IF(B17="","",IFERROR(VLOOKUP(B17,Profissionais!$A$5:$C$24,2,FALSE),0)) | H17: =IF(B17="","",IFERROR(VLOOKUP(B17,Profissionais!$A$5:$C$24,3,FALSE),"Valor cheio")) | I17: =IF(B17="","",IF(H17="Valor líquido",MAX(0,D17-E17-D17*F17),D17)*G17)
G18: =IF(B18="","",IFERROR(VLOOKUP(B18,Profissionais!$A$5:$C$24,2,FALSE),0)) | H18: =IF(B18="","",IFERROR(VLOOKUP(B18,Profissionais!$A$5:$C$24,3,FALSE),"Valor cheio")) | I18: =IF(B18="","",IF(H18="Valor líquido",MAX(0,D18-E18-D18*F18),D18)*G18)
G19: =IF(B19="","",IFERROR(VLOOKUP(B19,Profissionais!$A$5:$C$24,2,FALSE),0)) | H19: =IF(B19="","",IFERROR(VLOOKUP(B19,Profissionais!$A$5:$C$24,3,FALSE),"Valor cheio")) | I19: =IF(B19="","",IF(H19="Valor líquido",MAX(0,D19-E19-D19*F19),D19)*G19)
... G504: =IF(B504="","",IFERROR(VLOOKUP(B504,Profissionais!$A$5:$C$24,2,FALSE),0)) | H504: =IF(B504="","",IFERROR(VLOOKUP(B504,Profissionais!$A$5:$C$24,3,FALSE),"Valor cheio")) | I504: =IF(B504="","",IF(H504="Valor líquido",MAX(0,D504-E504-D504*F504),D504)*G504)

Sheet Fechamento
A1: Fechamento da comissão
A2: Escolha o período. Vales e adiantamentos são descontados do total.
A4: De | B4: 46266
A5: Até | B5: 46280
A7: Profissional | B7: Atendimentos | C7: Faturamento gerado | D7: Comissão | E7: Vales e adiantamentos | F7: A pagar
A8: =IF(Profissionais!A5="","",Profissionais!A5) | B8: =IF(A8="","",COUNTIFS(Atendimentos!$B$5:$B$504,A8,Atendimentos!$A$5:$A$504,">="&$B$4,Atendimentos!$A$5:$A$504,"<="&$B$5)) | C8: =IF(A8="","",SUMIFS(Atendimentos!$D$5:$D$504,Atendimentos!$B$5:$B$504,A8,Atendimentos!$A$5:$A$504,">="&$B$4,Atendimentos!$A$5:$A$504,"<="&$B$5)) | D8: =IF(A8="","",SUMIFS(Atendimentos!$I$5:$I$504,Atendimentos!$B$5:$B$504,A8,Atendimentos!$A$5:$A$504,">="&$B$4,Atendimentos!$A$5:$A$504,"<="&$B$5)) | F8: =IF(A8="","",D8-E8)
A9: =IF(Profissionais!A6="","",Profissionais!A6) | B9: =IF(A9="","",COUNTIFS(Atendimentos!$B$5:$B$504,A9,Atendimentos!$A$5:$A$504,">="&$B$4,Atendimentos!$A$5:$A$504,"<="&$B$5)) | C9: =IF(A9="","",SUMIFS(Atendimentos!$D$5:$D$504,Atendimentos!$B$5:$B$504,A9,Atendimentos!$A$5:$A$504,">="&$B$4,Atendimentos!$A$5:$A$504,"<="&$B$5)) | D9: =IF(A9="","",SUMIFS(Atendimentos!$I$5:$I$504,Atendimentos!$B$5:$B$504,A9,Atendimentos!$A$5:$A$504,">="&$B$4,Atendimentos!$A$5:$A$504,"<="&$B$5)) | F9: =IF(A9="","",D9-E9)
A10: =IF(Profissionais!A7="","",Profissionais!A7) | B10: =IF(A10="","",COUNTIFS(Atendimentos!$B$5:$B$504,A10,Atendimentos!$A$5:$A$504,">="&$B$4,Atendimentos!$A$5:$A$504,"<="&$B$5)) | C10: =IF(A10="","",SUMIFS(Atendimentos!$D$5:$D$504,Atendimentos!$B$5:$B$504,A10,Atendimentos!$A$5:$A$504,">="&$B$4,Atendimentos!$A$5:$A$504,"<="&$B$5)) | D10: =IF(A10="","",SUMIFS(Atendimentos!$I$5:$I$504,Atendimentos!$B$5:$B$504,A10,Atendimentos!$A$5:$A$504,">="&$B$4,Atendimentos!$A$5:$A$504,"<="&$B$5)) | F10: =IF(A10="","",D10-E10)
A11: =IF(Profissionais!A8="","",Profissionais!A8) | B11: =IF(A11="","",COUNTIFS(Atendimentos!$B$5:$B$504,A11,Atendimentos!$A$5:$A$504,">="&$B$4,Atendimentos!$A$5:$A$504,"<="&$B$5)) | C11: =IF(A11="","",SUMIFS(Atendimentos!$D$5:$D$504,Atendimentos!$B$5:$B$504,A11,Atendimentos!$A$5:$A$504,">="&$B$4,Atendimentos!$A$5:$A$504,"<="&$B$5)) | D11: =IF(A11="","",SUMIFS(Atendimentos!$I$5:$I$504,Atendimentos!$B$5:$B$504,A11,Atendimentos!$A$5:$A$504,">="&$B$4,Atendimentos!$A$5:$A$504,"<="&$B$5)) | F11: =IF(A11="","",D11-E11)
A12: =IF(Profissionais!A9="","",Profissionais!A9) | B12: =IF(A12="","",COUNTIFS(Atendimentos!$B$5:$B$504,A12,Atendimentos!$A$5:$A$504,">="&$B$4,Atendimentos!$A$5:$A$504,"<="&$B$5)) | C12: =IF(A12="","",SUMIFS(Atendimentos!$D$5:$D$504,Atendimentos!$B$5:$B$504,A12,Atendimentos!$A$5:$A$504,">="&$B$4,Atendimentos!$A$5:$A$504,"<="&$B$5)) | D12: =IF(A12="","",SUMIFS(Atendimentos!$I$5:$I$504,Atendimentos!$B$5:$B$504,A12,Atendimentos!$A$5:$A$504,">="&$B$4,Atendimentos!$A$5:$A$504,"<="&$B$5)) | F12: =IF(A12="","",D12-E12)
A13: =IF(Profissionais!A10="","",Profissionais!A10) | B13: =IF(A13="","",COUNTIFS(Atendimentos!$B$5:$B$504,A13,Atendimentos!$A$5:$A$504,">="&$B$4,Atendimentos!$A$5:$A$504,"<="&$B$5)) | C13: =IF(A13="","",SUMIFS(Atendimentos!$D$5:$D$504,Atendimentos!$B$5:$B$504,A13,Atendimentos!$A$5:$A$504,">="&$B$4,Atendimentos!$A$5:$A$504,"<="&$B$5)) | D13: =IF(A13="","",SUMIFS(Atendimentos!$I$5:$I$504,Atendimentos!$B$5:$B$504,A13,Atendimentos!$A$5:$A$504,">="&$B$4,Atendimentos!$A$5:$A$504,"<="&$B$5)) | F13: =IF(A13="","",D13-E13)
A14: =IF(Profissionais!A11="","",Profissionais!A11) | B14: =IF(A14="","",COUNTIFS(Atendimentos!$B$5:$B$504,A14,Atendimentos!$A$5:$A$504,">="&$B$4,Atendimentos!$A$5:$A$504,"<="&$B$5)) | C14: =IF(A14="","",SUMIFS(Atendimentos!$D$5:$D$504,Atendimentos!$B$5:$B$504,A14,Atendimentos!$A$5:$A$504,">="&$B$4,Atendimentos!$A$5:$A$504,"<="&$B$5)) | D14: =IF(A14="","",SUMIFS(Atendimentos!$I$5:$I$504,Atendimentos!$B$5:$B$504,A14,Atendimentos!$A$5:$A$504,">="&$B$4,Atendimentos!$A$5:$A$504,"<="&$B$5)) | F14: =IF(A14="","",D14-E14)
A15: =IF(Profissionais!A12="","",Profissionais!A12) | B15: =IF(A15="","",COUNTIFS(Atendimentos!$B$5:$B$504,A15,Atendimentos!$A$5:$A$504,">="&$B$4,Atendimentos!$A$5:$A$504,"<="&$B$5)) | C15: =IF(A15="","",SUMIFS(Atendimentos!$D$5:$D$504,Atendimentos!$B$5:$B$504,A15,Atendimentos!$A$5:$A$504,">="&$B$4,Atendimentos!$A$5:$A$504,"<="&$B$5)) | D15: =IF(A15="","",SUMIFS(Atendimentos!$I$5:$I$504,Atendimentos!$B$5:$B$504,A15,Atendimentos!$A$5:$A$504,">="&$B$4,Atendimentos!$A$5:$A$504,"<="&$B$5)) | F15: =IF(A15="","",D15-E15)
A16: =IF(Profissionais!A13="","",Profissionais!A13) | B16: =IF(A16="","",COUNTIFS(Atendimentos!$B$5:$B$504,A16,Atendimentos!$A$5:$A$504,">="&$B$4,Atendimentos!$A$5:$A$504,"<="&$B$5)) | C16: =IF(A16="","",SUMIFS(Atendimentos!$D$5:$D$504,Atendimentos!$B$5:$B$504,A16,Atendimentos!$A$5:$A$504,">="&$B$4,Atendimentos!$A$5:$A$504,"<="&$B$5)) | D16: =IF(A16="","",SUMIFS(Atendimentos!$I$5:$I$504,Atendimentos!$B$5:$B$504,A16,Atendimentos!$A$5:$A$504,">="&$B$4,Atendimentos!$A$5:$A$504,"<="&$B$5)) | F16: =IF(A16="","",D16-E16)
A17: =IF(Profissionais!A14="","",Profissionais!A14) | B17: =IF(A17="","",COUNTIFS(Atendimentos!$B$5:$B$504,A17,Atendimentos!$A$5:$A$504,">="&$B$4,Atendimentos!$A$5:$A$504,"<="&$B$5)) | C17: =IF(A17="","",SUMIFS(Atendimentos!$D$5:$D$504,Atendimentos!$B$5:$B$504,A17,Atendimentos!$A$5:$A$504,">="&$B$4,Atendimentos!$A$5:$A$504,"<="&$B$5)) | D17: =IF(A17="","",SUMIFS(Atendimentos!$I$5:$I$504,Atendimentos!$B$5:$B$504,A17,Atendimentos!$A$5:$A$504,">="&$B$4,Atendimentos!$A$5:$A$504,"<="&$B$5)) | F17: =IF(A17="","",D17-E17)
A18: =IF(Profissionais!A15="","",Profissionais!A15) | B18: =IF(A18="","",COUNTIFS(Atendimentos!$B$5:$B$504,A18,Atendimentos!$A$5:$A$504,">="&$B$4,Atendimentos!$A$5:$A$504,"<="&$B$5)) | C18: =IF(A18="","",SUMIFS(Atendimentos!$D$5:$D$504,Atendimentos!$B$5:$B$504,A18,Atendimentos!$A$5:$A$504,">="&$B$4,Atendimentos!$A$5:$A$504,"<="&$B$5)) | D18: =IF(A18="","",SUMIFS(Atendimentos!$I$5:$I$504,Atendimentos!$B$5:$B$504,A18,Atendimentos!$A$5:$A$504,">="&$B$4,Atendimentos!$A$5:$A$504,"<="&$B$5)) | F18: =IF(A18="","",D18-E18)
A19: =IF(Profissionais!A16="","",Profissionais!A16) | B19: =IF(A19="","",COUNTIFS(Atendimentos!$B$5:$B$504,A19,Atendimentos!$A$5:$A$504,">="&$B$4,Atendimentos!$A$5:$A$504,"<="&$B$5)) | C19: =IF(A19="","",SUMIFS(Atendimentos!$D$5:$D$504,Atendimentos!$B$5:$B$504,A19,Atendimentos!$A$5:$A$504,">="&$B$4,Atendimentos!$A$5:$A$504,"<="&$B$5)) | D19: =IF(A19="","",SUMIFS(Atendimentos!$I$5:$I$504,Atendimentos!$B$5:$B$504,A19,Atendimentos!$A$5:$A$504,">="&$B$4,Atendimentos!$A$5:$A$504,"<="&$B$5)) | F19: =IF(A19="","",D19-E19)
... A27: =IF(Profissionais!A24="","",Profissionais!A24) | B27: =IF(A27="","",COUNTIFS(Atendimentos!$B$5:$B$504,A27,Atendimentos!$A$5:$A$504,">="&$B$4,Atendimentos!$A$5:$A$504,"<="&$B$5)) | C27: =IF(A27="","",SUMIFS(Atendimentos!$D$5:$D$504,Atendimentos!$B$5:$B$504,A27,Atendimentos!$A$5:$A$504,">="&$B$4,Atendimentos!$A$5:$A$504,"<="&$B$5)) | D27: =IF(A27="","",SUMIFS(Atendimentos!$I$5:$I$504,Atendimentos!$B$5:$B$504,A27,Atendimentos!$A$5:$A$504,">="&$B$4,Atendimentos!$A$5:$A$504,"<="&$B$5)) | F27: =IF(A27="","",D27-E27)
A28: Total | C28: =SUM(C8:C27) | D28: =SUM(D8:D27) | E28: =SUM(E8:E27) | F28: =SUM(F8:F27)
